BEGIN:VCALENDAR
VERSION:2.0
PRODID:-//Contratero//ES
CALSCALE:GREGORIAN
METHOD:PUBLISH
BEGIN:VEVENT
UID:CMAYOR 2023_11Y05_0086_BAS@contratero.es
DTSTAMP:20260422T160756Z
DTSTART:20231128T235959
DTEND:20231129T005959
SUMMARY:Cierre: Adquisicion y renovacion de licencias y suscripcio
DESCRIPTION:Adquisicion y renovacion de licencias y suscripciones de software de virtualizacion para la Direccion General de Tecnologias de la Informacion y las Comunicaciones\\n\\nOrganismo: Dirección General de Tecnologías de la Información y las Comunicaciones\\n\\nVer en Contratero: https://contratero.es/contracts/CMAYOR 2023_11Y05_0086_BAS
URL:https://contratero.es/contracts/CMAYOR 2023_11Y05_0086_BAS
STATUS:CONFIRMED
BEGIN:VALARM
TRIGGER:-P1D
ACTION:DISPLAY
DESCRIPTION:Recordatorio: Adquisicion y renovacion de li
END:VALARM
END:VEVENT
END:VCALENDAR